BEGIN:VCALENDAR
VERSION:2.0
PRODID:-//UNASP - Calendário Acadêmico - ECPv6.8.3//NONSGML v1.0//EN
CALSCALE:GREGORIAN
METHOD:PUBLISH
X-ORIGINAL-URL:https://unasp.br/calendario
X-WR-CALDESC:Eventos para UNASP - Calendário Acadêmico
REFRESH-INTERVAL;VALUE=DURATION:PT1H
X-Robots-Tag:noindex
X-PUBLISHED-TTL:PT1H
BEGIN:VTIMEZONE
TZID:America/Sao_Paulo
BEGIN:STANDARD
TZOFFSETFROM:-0200
TZOFFSETTO:-0300
TZNAME:-03
DTSTART:20180218T020000
END:STANDARD
BEGIN:DAYLIGHT
TZOFFSETFROM:-0300
TZOFFSETTO:-0200
TZNAME:-02
DTSTART:20181104T030000
END:DAYLIGHT
END:VTIMEZONE
BEGIN:VEVENT
DTSTART;TZID=America/Sao_Paulo:20180226T110000
DTEND;TZID=America/Sao_Paulo:20180304T200000
DTSTAMP:20260420T065555
CREATED:20171207T205049Z
LAST-MODIFIED:20180102T130212Z
UID:5197-1519642800-1520193600@unasp.br
SUMMARY:Aula Inaugural nos Polos EAD
DESCRIPTION:
URL:https://unasp.br/calendario/evento/aula-inaugural-e-encontro-integrador-nos-polos-ead/
CATEGORIES:Pró-reitoria Acadêmica
END:VEVENT
BEGIN:VEVENT
DTSTART;TZID=America/Sao_Paulo:20180304T110000
DTEND;TZID=America/Sao_Paulo:20180304T200000
DTSTAMP:20260420T065555
CREATED:20171020T115826Z
LAST-MODIFIED:20171020T115826Z
UID:4125-1520161200-1520193600@unasp.br
SUMMARY:Início das Aulas - 1º Sem.
DESCRIPTION:
URL:https://unasp.br/calendario/evento/inicio-das-aulas-1o-sem/
END:VEVENT
BEGIN:VEVENT
DTSTART;TZID=America/Sao_Paulo:20180304T110000
DTEND;TZID=America/Sao_Paulo:20180304T200000
DTSTAMP:20260420T065555
CREATED:20171020T115857Z
LAST-MODIFIED:20171020T115857Z
UID:4127-1520161200-1520193600@unasp.br
SUMMARY:Day Camp
DESCRIPTION:
URL:https://unasp.br/calendario/evento/day-camp/
CATEGORIES:Pró-reitoria Desenvolvimento Espiritual, Comunitário e Estudantil
END:VEVENT
BEGIN:VEVENT
DTSTART;TZID=America/Sao_Paulo:20180304T110000
DTEND;TZID=America/Sao_Paulo:20180304T200000
DTSTAMP:20260420T065555
CREATED:20180214T104211Z
LAST-MODIFIED:20181031T202820Z
UID:7171-1520161200-1520193600@unasp.br
SUMMARY:Plantio de árvores nativas - Agronomia
DESCRIPTION:
URL:https://unasp.br/calendario/evento/plantio-de-arvores-nativas-agronomia/
CATEGORIES:Pró-reitoria Acadêmica
END:VEVENT
BEGIN:VEVENT
DTSTART;TZID=America/Sao_Paulo:20180304T110000
DTEND;TZID=America/Sao_Paulo:20180310T200000
DTSTAMP:20260420T065555
CREATED:20171020T115934Z
LAST-MODIFIED:20171020T115934Z
UID:4129-1520161200-1520712000@unasp.br
SUMMARY:Semana da Bíblia
DESCRIPTION:
URL:https://unasp.br/calendario/evento/semana-da-biblia/
CATEGORIES:Pró-reitoria Desenvolvimento Espiritual, Comunitário e Estudantil
END:VEVENT
END:VCALENDAR