BEGIN:VCALENDAR
VERSION:2.0
PRODID:-//UNASP - Calendário Acadêmico - ECPv6.8.3//NONSGML v1.0//EN
CALSCALE:GREGORIAN
METHOD:PUBLISH
X-ORIGINAL-URL:https://unasp.br/calendario
X-WR-CALDESC:Eventos para UNASP - Calendário Acadêmico
REFRESH-INTERVAL;VALUE=DURATION:PT1H
X-Robots-Tag:noindex
X-PUBLISHED-TTL:PT1H
BEGIN:VTIMEZONE
TZID:America/Sao_Paulo
BEGIN:STANDARD
TZOFFSETFROM:-0200
TZOFFSETTO:-0300
TZNAME:-03
DTSTART:20180218T020000
END:STANDARD
BEGIN:DAYLIGHT
TZOFFSETFROM:-0300
TZOFFSETTO:-0200
TZNAME:-02
DTSTART:20181104T030000
END:DAYLIGHT
END:VTIMEZONE
BEGIN:VEVENT
DTSTART;VALUE=DATE:20180416
DTEND;VALUE=DATE:20180423
DTSTAMP:20260420T065553
CREATED:20171107T131814Z
LAST-MODIFIED:20171107T131814Z
UID:4282-1523847600-1524365999@unasp.br
SUMMARY:Semana de Oração Ensino Superior - Pr. Lelis
DESCRIPTION:
URL:https://unasp.br/calendario/evento/semana-de-oracao-ensino-superior-pr-lelis/
CATEGORIES:Pró-reitoria Desenvolvimento Espiritual, Comunitário e Estudantil
END:VEVENT
BEGIN:VEVENT
DTSTART;TZID=America/Sao_Paulo:20180419T110000
DTEND;TZID=America/Sao_Paulo:20180419T200000
DTSTAMP:20260420T065553
CREATED:20171108T205153Z
LAST-MODIFIED:20180124T123441Z
UID:4513-1524135600-1524168000@unasp.br
SUMMARY:NDE - Ciência da Computação
DESCRIPTION:
URL:https://unasp.br/calendario/evento/nde-30/
CATEGORIES:Pró-reitoria Acadêmica
END:VEVENT
BEGIN:VEVENT
DTSTART;TZID=America/Sao_Paulo:20180419T110000
DTEND;TZID=America/Sao_Paulo:20180419T200000
DTSTAMP:20260420T065553
CREATED:20171108T205239Z
LAST-MODIFIED:20180124T123531Z
UID:4515-1524135600-1524168000@unasp.br
SUMMARY:NDE - Engenharia da Computação
DESCRIPTION:
URL:https://unasp.br/calendario/evento/nde-31/
CATEGORIES:Pró-reitoria Acadêmica
END:VEVENT
BEGIN:VEVENT
DTSTART;TZID=America/Sao_Paulo:20180419T110000
DTEND;TZID=America/Sao_Paulo:20180419T200000
DTSTAMP:20260420T065553
CREATED:20180214T115131Z
LAST-MODIFIED:20181031T200340Z
UID:7210-1524135600-1524168000@unasp.br
SUMMARY:Reunião de Colegiado e NDE - Letras e Tradutor
DESCRIPTION:
URL:https://unasp.br/calendario/evento/reuniao-de-colegiado-e-nde-letrs-e-tradutor/
CATEGORIES:Pró-reitoria Acadêmica
END:VEVENT
BEGIN:VEVENT
DTSTART;TZID=America/Sao_Paulo:20180419T180000
DTEND;TZID=America/Sao_Paulo:20180419T203000
DTSTAMP:20260420T065553
CREATED:20170922T143844Z
LAST-MODIFIED:20180328T134720Z
UID:3827-1524160800-1524169800@unasp.br
SUMMARY:Reunião COMDIC
DESCRIPTION:
URL:https://unasp.br/calendario/evento/reuniao-comdic-4/
CATEGORIES:Reitoria
END:VEVENT
END:VCALENDAR