BEGIN:VCALENDAR
VERSION:2.0
PRODID:-//UNASP - Calendário Acadêmico - ECPv6.8.3//NONSGML v1.0//EN
CALSCALE:GREGORIAN
METHOD:PUBLISH
X-WR-CALNAME:UNASP - Calendário Acadêmico
X-ORIGINAL-URL:https://unasp.br/calendario
X-WR-CALDESC:Eventos para UNASP - Calendário Acadêmico
REFRESH-INTERVAL;VALUE=DURATION:PT1H
X-Robots-Tag:noindex
X-PUBLISHED-TTL:PT1H
BEGIN:VTIMEZONE
TZID:America/Sao_Paulo
BEGIN:STANDARD
TZOFFSETFROM:-0300
TZOFFSETTO:-0300
TZNAME:-03
DTSTART:20230101T030000
END:STANDARD
END:VTIMEZONE
BEGIN:VEVENT
DTSTART;VALUE=DATE:20230901
DTEND;VALUE=DATE:20231002
DTSTAMP:20260421T082811
CREATED:20221124T173307Z
LAST-MODIFIED:20221124T173307Z
UID:74146-1693537200-1696129199@unasp.br
SUMMARY:Setembro Amarelo - Recursos Humanos
DESCRIPTION:
URL:https://unasp.br/calendario/evento/setembro-amarelo-recursos-humanos/
CATEGORIES:Reitoria
END:VEVENT
BEGIN:VEVENT
DTSTART;VALUE=DATE:20230915
DTEND;VALUE=DATE:20230925
DTSTAMP:20260421T082811
CREATED:20221124T123626Z
LAST-MODIFIED:20230118T163554Z
UID:73985-1694746800-1695524399@unasp.br
SUMMARY:Semana de Oração Universitária
DESCRIPTION:
URL:https://unasp.br/calendario/evento/semana-de-oracao-universitaria-18/
CATEGORIES:Pró-reitoria Desenvolvimento Espiritual, Comunitário e Estudantil
END:VEVENT
BEGIN:VEVENT
DTSTART;TZID=America/Sao_Paulo:20230916T110000
DTEND;TZID=America/Sao_Paulo:20231019T200000
DTSTAMP:20260421T082811
CREATED:20221101T103003Z
LAST-MODIFIED:20221017T003334Z
UID:73252-1694862000-1697745600@unasp.br
SUMMARY:Semana do Curso de Arquitetura e Urbanismo
DESCRIPTION:
URL:https://unasp.br/calendario/evento/semana-do-curso-de-arquitetura-e-urbanismo-6/
LOCATION:Campus São Paulo\, Estrada de Itapecerica da Serra\, 5859\, São Paulo\, SP\, 05858-001\, Brasil
CATEGORIES:Pró-reitoria de Graduação
END:VEVENT
BEGIN:VEVENT
DTSTART;TZID=America/Sao_Paulo:20230918T110000
DTEND;TZID=America/Sao_Paulo:20230921T200000
DTSTAMP:20260421T082811
CREATED:20221111T184521Z
LAST-MODIFIED:20221013T184828Z
UID:72813-1695034800-1695326400@unasp.br
SUMMARY:Semana da FAT
DESCRIPTION:
URL:https://unasp.br/calendario/evento/semana-da-fat-2/
CATEGORIES:Pró-reitoria de Graduação
END:VEVENT
BEGIN:VEVENT
DTSTART;TZID=America/Sao_Paulo:20230918T110000
DTEND;TZID=America/Sao_Paulo:20230922T200000
DTSTAMP:20260421T082811
CREATED:20221101T103019Z
LAST-MODIFIED:20221020T183745Z
UID:72468-1695034800-1695412800@unasp.br
SUMMARY:Semana da Responsabilidade Social
DESCRIPTION:
URL:https://unasp.br/calendario/evento/semana-da-responsabilidade-social-2/
CATEGORIES:Diretoria de Extensão,Pró-reitoria de Graduação
END:VEVENT
BEGIN:VEVENT
DTSTART;TZID=America/Sao_Paulo:20230918T220000
DTEND;TZID=America/Sao_Paulo:20230921T020000
DTSTAMP:20260421T082811
CREATED:20221101T103056Z
LAST-MODIFIED:20221017T003218Z
UID:73388-1695074400-1695261600@unasp.br
SUMMARY:Semana do Curso de Psicologia
DESCRIPTION:
URL:https://unasp.br/calendario/evento/semana-do-curso-de-psicologia-4/
LOCATION:Campus São Paulo\, Estrada de Itapecerica da Serra\, 5859\, São Paulo\, SP\, 05858-001\, Brasil
CATEGORIES:Pró-reitoria de Graduação
END:VEVENT
BEGIN:VEVENT
DTSTART;TZID=America/Sao_Paulo:20230919T110000
DTEND;TZID=America/Sao_Paulo:20230919T200000
DTSTAMP:20260421T082811
CREATED:20221101T103029Z
LAST-MODIFIED:20221013T190601Z
UID:72840-1695121200-1695153600@unasp.br
SUMMARY:Reunião Multidisciplinar
DESCRIPTION:
URL:https://unasp.br/calendario/evento/reuniao-multidisciplinar-12/
LOCATION:Campus Virtual\, Estrada Mun. Pr. Walter Boger\, S/N\, Km 3\,5\, Engenheiro Coelho\, São Paulo\, 13165000\, Brasil
CATEGORIES:Pró-reitoria EAD
END:VEVENT
BEGIN:VEVENT
DTSTART;TZID=America/Sao_Paulo:20230919T110000
DTEND;TZID=America/Sao_Paulo:20230919T200000
DTSTAMP:20260421T082811
CREATED:20221101T103045Z
LAST-MODIFIED:20221020T180240Z
UID:73358-1695121200-1695153600@unasp.br
SUMMARY:UNASPED - Curso de Administração
DESCRIPTION:
URL:https://unasp.br/calendario/evento/unasped-curso-de-administracao-4/
CATEGORIES:Pró-reitoria de Graduação
END:VEVENT
END:VCALENDAR