BEGIN:VCALENDAR
VERSION:2.0
PRODID:-//UNASP - Calendário Acadêmico - ECPv6.8.3//NONSGML v1.0//EN
CALSCALE:GREGORIAN
METHOD:PUBLISH
X-ORIGINAL-URL:https://unasp.br/calendario
X-WR-CALDESC:Eventos para UNASP - Calendário Acadêmico
REFRESH-INTERVAL;VALUE=DURATION:PT1H
X-Robots-Tag:noindex
X-PUBLISHED-TTL:PT1H
BEGIN:VTIMEZONE
TZID:America/Sao_Paulo
BEGIN:STANDARD
TZOFFSETFROM:-0300
TZOFFSETTO:-0300
TZNAME:-03
DTSTART:20230101T030000
END:STANDARD
END:VTIMEZONE
BEGIN:VEVENT
DTSTART;VALUE=DATE:20230901
DTEND;VALUE=DATE:20231002
DTSTAMP:20260421T082925
CREATED:20221124T173307Z
LAST-MODIFIED:20221124T173307Z
UID:74146-1693537200-1696129199@unasp.br
SUMMARY:Setembro Amarelo - Recursos Humanos
DESCRIPTION:
URL:https://unasp.br/calendario/evento/setembro-amarelo-recursos-humanos/
CATEGORIES:Reitoria
END:VEVENT
BEGIN:VEVENT
DTSTART;TZID=America/Sao_Paulo:20230916T110000
DTEND;TZID=America/Sao_Paulo:20231019T200000
DTSTAMP:20260421T082925
CREATED:20221101T103003Z
LAST-MODIFIED:20221017T003334Z
UID:73252-1694862000-1697745600@unasp.br
SUMMARY:Semana do Curso de Arquitetura e Urbanismo
DESCRIPTION:
URL:https://unasp.br/calendario/evento/semana-do-curso-de-arquitetura-e-urbanismo-6/
LOCATION:Campus São Paulo\, Estrada de Itapecerica da Serra\, 5859\, São Paulo\, SP\, 05858-001\, Brasil
CATEGORIES:Pró-reitoria de Graduação
END:VEVENT
BEGIN:VEVENT
DTSTART;TZID=America/Sao_Paulo:20230923T110000
DTEND;TZID=America/Sao_Paulo:20230930T200000
DTSTAMP:20260421T082925
CREATED:20221111T185020Z
LAST-MODIFIED:20221013T185700Z
UID:72817-1695466800-1696104000@unasp.br
SUMMARY:Semana de Evangelismo 4º Ano - Teologia
DESCRIPTION:
URL:https://unasp.br/calendario/evento/semana-de-evangelismo-4o-ano-teologia/
CATEGORIES:Pró-reitoria de Graduação
END:VEVENT
BEGIN:VEVENT
DTSTART;TZID=America/Sao_Paulo:20230924T110000
DTEND;TZID=America/Sao_Paulo:20230928T200000
DTSTAMP:20260421T082925
CREATED:20221101T103007Z
LAST-MODIFIED:20240201T112525Z
UID:72906-1695553200-1695931200@unasp.br
SUMMARY:Prova do módulo (módulos 3\,7\,11\,15)
DESCRIPTION:
URL:https://unasp.br/calendario/evento/prova-do-modulo-modulos-371115-2/
LOCATION:Campus Virtual\, Estrada Mun. Pr. Walter Boger\, S/N\, Km 3\,5\, Engenheiro Coelho\, São Paulo\, 13165000\, Brasil
CATEGORIES:Pró-reitoria EAD
END:VEVENT
BEGIN:VEVENT
DTSTART;TZID=America/Sao_Paulo:20230924T110000
DTEND;TZID=America/Sao_Paulo:20230929T200000
DTSTAMP:20260421T082925
CREATED:20221111T185140Z
LAST-MODIFIED:20221013T185316Z
UID:72819-1695553200-1696017600@unasp.br
SUMMARY:Semana da Psicologia
DESCRIPTION:
URL:https://unasp.br/calendario/evento/semana-da-psicologia/
CATEGORIES:Pró-reitoria de Graduação
END:VEVENT
BEGIN:VEVENT
DTSTART;TZID=America/Sao_Paulo:20230925T110000
DTEND;TZID=America/Sao_Paulo:20230927T200000
DTSTAMP:20260421T082925
CREATED:20230119T173716Z
LAST-MODIFIED:20230119T173716Z
UID:74670-1695639600-1695844800@unasp.br
SUMMARY:Recitais Presenciais
DESCRIPTION:
URL:https://unasp.br/calendario/evento/recitais-presenciais-3/
LOCATION:Campus Hortolândia\, R. Partor Hugo Gegembauer\, 265\, Hortolandia\, São Paulo\, 13184-010\, Brasil
CATEGORIES:Diretoria de Campus
END:VEVENT
BEGIN:VEVENT
DTSTART;TZID=America/Sao_Paulo:20230925T110000
DTEND;TZID=America/Sao_Paulo:20230928T200000
DTSTAMP:20260421T082925
CREATED:20221111T185714Z
LAST-MODIFIED:20221013T185909Z
UID:72823-1695639600-1695931200@unasp.br
SUMMARY:Prova Integradora - CContábeis
DESCRIPTION:
URL:https://unasp.br/calendario/evento/prova-integradora-ccontabeis/
CATEGORIES:Pró-reitoria de Graduação
END:VEVENT
BEGIN:VEVENT
DTSTART;TZID=America/Sao_Paulo:20230925T110000
DTEND;TZID=America/Sao_Paulo:20230929T200000
DTSTAMP:20260421T082925
CREATED:20221101T103040Z
LAST-MODIFIED:20221018T131934Z
UID:73680-1695639600-1696017600@unasp.br
SUMMARY:Simulado 2 - CPB - E.M (ENEM interativo)
DESCRIPTION:
URL:https://unasp.br/calendario/evento/simulado-2-cpb-e-m-enem-interativo/
LOCATION:Campus Hortolândia\, R. Partor Hugo Gegembauer\, 265\, Hortolandia\, São Paulo\, 13184-010\, Brasil
CATEGORIES:Diretoria de Campus
END:VEVENT
BEGIN:VEVENT
DTSTART;VALUE=DATE:20230927
DTEND;VALUE=DATE:20230929
DTSTAMP:20260421T082925
CREATED:20221129T134241Z
LAST-MODIFIED:20221129T134241Z
UID:74297-1695783600-1695869999@unasp.br
SUMMARY:Conselho da Educação Básica - CONSEB
DESCRIPTION:
URL:https://unasp.br/calendario/evento/conselho-da-educacao-basica-conseb-12/
CATEGORIES:Reitoria
END:VEVENT
BEGIN:VEVENT
DTSTART;TZID=America/Sao_Paulo:20230927T110000
DTEND;TZID=America/Sao_Paulo:20230927T200000
DTSTAMP:20260421T082925
CREATED:20221101T103024Z
LAST-MODIFIED:20221129T134249Z
UID:72879-1695812400-1695844800@unasp.br
SUMMARY:Encontro Coordenadores
DESCRIPTION:
URL:https://unasp.br/calendario/evento/encontro-coordenadores-6/
LOCATION:Campus Virtual\, Estrada Mun. Pr. Walter Boger\, S/N\, Km 3\,5\, Engenheiro Coelho\, São Paulo\, 13165000\, Brasil
CATEGORIES:Pró-reitoria EAD
END:VEVENT
BEGIN:VEVENT
DTSTART;TZID=America/Sao_Paulo:20230927T120000
DTEND;TZID=America/Sao_Paulo:20230927T140000
DTSTAMP:20260421T082925
CREATED:20230327T113325Z
LAST-MODIFIED:20230327T113325Z
UID:74950-1695816000-1695823200@unasp.br
SUMMARY:Reunião da CPA
DESCRIPTION:
URL:https://unasp.br/calendario/evento/reuniao-da-cpa-6/
CATEGORIES:CPA
END:VEVENT
BEGIN:VEVENT
DTSTART;TZID=America/Sao_Paulo:20230927T170000
DTEND;TZID=America/Sao_Paulo:20230927T183000
DTSTAMP:20260421T082925
CREATED:20221101T103025Z
LAST-MODIFIED:20221020T183744Z
UID:72523-1695834000-1695839400@unasp.br
SUMMARY:Capacitação "Quartas do Saber"
DESCRIPTION:
URL:https://unasp.br/calendario/evento/capacitacao-quartas-do-saber-6/
CATEGORIES:Pró-reitoria de Graduação
END:VEVENT
BEGIN:VEVENT
DTSTART;TZID=America/Sao_Paulo:20230927T170000
DTEND;TZID=America/Sao_Paulo:20230927T210000
DTSTAMP:20260421T082925
CREATED:20221109T132905Z
LAST-MODIFIED:20221109T133105Z
UID:73880-1695834000-1695848400@unasp.br
SUMMARY:CONSELHO DE CULTURA\, CONVIVÊNCIA E EVENTOS - CONVIVE
DESCRIPTION:
URL:https://unasp.br/calendario/evento/conselho-de-cultura-convivencia-e-eventos-convive-8/
CATEGORIES:Reitoria
END:VEVENT
END:VCALENDAR