BEGIN:VCALENDAR
VERSION:2.0
PRODID:-//UNASP - Calendário Acadêmico - ECPv6.8.3//NONSGML v1.0//EN
CALSCALE:GREGORIAN
METHOD:PUBLISH
X-ORIGINAL-URL:https://unasp.br/calendario
X-WR-CALDESC:Eventos para UNASP - Calendário Acadêmico
REFRESH-INTERVAL;VALUE=DURATION:PT1H
X-Robots-Tag:noindex
X-PUBLISHED-TTL:PT1H
BEGIN:VTIMEZONE
TZID:America/Sao_Paulo
BEGIN:STANDARD
TZOFFSETFROM:-0300
TZOFFSETTO:-0300
TZNAME:-03
DTSTART:20230101T030000
END:STANDARD
END:VTIMEZONE
BEGIN:VEVENT
DTSTART;TZID=America/Sao_Paulo:20230916T110000
DTEND;TZID=America/Sao_Paulo:20231019T200000
DTSTAMP:20260421T110040
CREATED:20221101T103003Z
LAST-MODIFIED:20221017T003334Z
UID:73252-1694862000-1697745600@unasp.br
SUMMARY:Semana do Curso de Arquitetura e Urbanismo
DESCRIPTION:
URL:https://unasp.br/calendario/evento/semana-do-curso-de-arquitetura-e-urbanismo-6/
LOCATION:Campus São Paulo\, Estrada de Itapecerica da Serra\, 5859\, São Paulo\, SP\, 05858-001\, Brasil
CATEGORIES:Pró-reitoria de Graduação
END:VEVENT
BEGIN:VEVENT
DTSTART;VALUE=DATE:20231002
DTEND;VALUE=DATE:20231102
DTSTAMP:20260421T110040
CREATED:20221124T173703Z
LAST-MODIFIED:20221124T173703Z
UID:74148-1696215600-1698807599@unasp.br
SUMMARY:Outubro Rosa - Recursos Humanos
DESCRIPTION:
URL:https://unasp.br/calendario/evento/outubro-rosa-recursos-humanos/
CATEGORIES:Reitoria
END:VEVENT
BEGIN:VEVENT
DTSTART;TZID=America/Sao_Paulo:20231012T110000
DTEND;TZID=America/Sao_Paulo:20231012T200000
DTSTAMP:20260421T110040
CREATED:20221109T134328Z
LAST-MODIFIED:20221109T134328Z
UID:73889-1697108400-1697140800@unasp.br
SUMMARY:Feriado Dia das Crianças
DESCRIPTION:
URL:https://unasp.br/calendario/evento/feriado-dia-das-criancas-2/
CATEGORIES:Datas Comemorativas, Recessos e Feriados
END:VEVENT
BEGIN:VEVENT
DTSTART;TZID=America/Sao_Paulo:20231012T110000
DTEND;TZID=America/Sao_Paulo:20231013T200000
DTSTAMP:20260421T110040
CREATED:20230119T174021Z
LAST-MODIFIED:20230213T195227Z
UID:74676-1697108400-1697227200@unasp.br
SUMMARY:Recesso 12 OUT - Educação Básica
DESCRIPTION:
URL:https://unasp.br/calendario/evento/recesso-12-out/
LOCATION:Campus Hortolândia\, R. Partor Hugo Gegembauer\, 265\, Hortolandia\, São Paulo\, 13184-010\, Brasil
CATEGORIES:Datas Comemorativas, Recessos e Feriados
END:VEVENT
END:VCALENDAR