BEGIN:VCALENDAR
VERSION:2.0
PRODID:-//UNASP - Calendário Acadêmico - ECPv6.8.3//NONSGML v1.0//EN
CALSCALE:GREGORIAN
METHOD:PUBLISH
X-ORIGINAL-URL:https://unasp.br/calendario
X-WR-CALDESC:Eventos para UNASP - Calendário Acadêmico
REFRESH-INTERVAL;VALUE=DURATION:PT1H
X-Robots-Tag:noindex
X-PUBLISHED-TTL:PT1H
BEGIN:VTIMEZONE
TZID:America/Sao_Paulo
BEGIN:STANDARD
TZOFFSETFROM:-0300
TZOFFSETTO:-0300
TZNAME:-03
DTSTART:20230101T030000
END:STANDARD
END:VTIMEZONE
BEGIN:VEVENT
DTSTART;VALUE=DATE:20231002
DTEND;VALUE=DATE:20231102
DTSTAMP:20260421T094228
CREATED:20221124T173703Z
LAST-MODIFIED:20221124T173703Z
UID:74148-1696215600-1698807599@unasp.br
SUMMARY:Outubro Rosa - Recursos Humanos
DESCRIPTION:
URL:https://unasp.br/calendario/evento/outubro-rosa-recursos-humanos/
CATEGORIES:Reitoria
END:VEVENT
BEGIN:VEVENT
DTSTART;VALUE=DATE:20231023
DTEND;VALUE=DATE:20231030
DTSTAMP:20260421T094228
CREATED:20221124T124758Z
LAST-MODIFIED:20221124T124758Z
UID:73996-1698030000-1698548399@unasp.br
SUMMARY:Semana da Colportagem - São Paulo
DESCRIPTION:
URL:https://unasp.br/calendario/evento/semana-da-colportagem-sao-paulo/
CATEGORIES:Pró-reitoria Desenvolvimento Espiritual, Comunitário e Estudantil
END:VEVENT
BEGIN:VEVENT
DTSTART;TZID=America/Sao_Paulo:20231023T110000
DTEND;TZID=America/Sao_Paulo:20231026T200000
DTSTAMP:20260421T094228
CREATED:20221101T103000Z
LAST-MODIFIED:20221020T180113Z
UID:73510-1698058800-1698350400@unasp.br
SUMMARY:Semana do Curso de Ciências Contábeis
DESCRIPTION:
URL:https://unasp.br/calendario/evento/semana-do-curso-de-ciencias-contabeis-3/
CATEGORIES:Pró-reitoria de Graduação
END:VEVENT
BEGIN:VEVENT
DTSTART;TZID=America/Sao_Paulo:20231023T110000
DTEND;TZID=America/Sao_Paulo:20231026T200000
DTSTAMP:20260421T094228
CREATED:20221101T103007Z
LAST-MODIFIED:20221020T180104Z
UID:73585-1698058800-1698350400@unasp.br
SUMMARY:Semana de Tecnologia - Sistemas e Engenharia da Computação
DESCRIPTION:
URL:https://unasp.br/calendario/evento/semana-de-tecnologia-sistemas-e-engenharia-da-computacao/
CATEGORIES:Pró-reitoria de Graduação
END:VEVENT
BEGIN:VEVENT
DTSTART;TZID=America/Sao_Paulo:20231023T110000
DTEND;TZID=America/Sao_Paulo:20231026T200000
DTSTAMP:20260421T094228
CREATED:20221101T103047Z
LAST-MODIFIED:20221020T180050Z
UID:73362-1698058800-1698350400@unasp.br
SUMMARY:Semana do Curso de Administração
DESCRIPTION:
URL:https://unasp.br/calendario/evento/semana-do-curso-de-administracao-5/
CATEGORIES:Pró-reitoria de Graduação
END:VEVENT
BEGIN:VEVENT
DTSTART;TZID=America/Sao_Paulo:20231023T110000
DTEND;TZID=America/Sao_Paulo:20231026T200000
DTSTAMP:20260421T094228
CREATED:20221111T120301Z
LAST-MODIFIED:20221014T120454Z
UID:73153-1698058800-1698350400@unasp.br
SUMMARY:Semana de Administração
DESCRIPTION:
URL:https://unasp.br/calendario/evento/semana-de-administracao-4/
CATEGORIES:Pró-reitoria de Graduação
END:VEVENT
BEGIN:VEVENT
DTSTART;TZID=America/Sao_Paulo:20231023T110000
DTEND;TZID=America/Sao_Paulo:20231026T200000
DTSTAMP:20260421T094228
CREATED:20221111T191631Z
LAST-MODIFIED:20221013T191925Z
UID:72857-1698058800-1698350400@unasp.br
SUMMARY:XXEncont - Semana do Curso - CContábeis
DESCRIPTION:
URL:https://unasp.br/calendario/evento/xxencont-semana-do-curso-ccontabeis/
CATEGORIES:Pró-reitoria de Graduação
END:VEVENT
BEGIN:VEVENT
DTSTART;TZID=America/Sao_Paulo:20231023T220000
DTEND;TZID=America/Sao_Paulo:20231027T020000
DTSTAMP:20260421T094228
CREATED:20221101T103006Z
LAST-MODIFIED:20221017T001917Z
UID:73088-1698098400-1698372000@unasp.br
SUMMARY:Semana do Curso de Administração
DESCRIPTION:
URL:https://unasp.br/calendario/evento/semana-do-curso-de-administracao-4/
LOCATION:Campus São Paulo\, Estrada de Itapecerica da Serra\, 5859\, São Paulo\, SP\, 05858-001\, Brasil
CATEGORIES:Pró-reitoria de Graduação
END:VEVENT
BEGIN:VEVENT
DTSTART;TZID=America/Sao_Paulo:20231024T213000
DTEND;TZID=America/Sao_Paulo:20231026T230000
DTSTAMP:20260421T094228
CREATED:20230119T174128Z
LAST-MODIFIED:20230119T174128Z
UID:74678-1698183000-1698361200@unasp.br
SUMMARY:Recitais Presenciais
DESCRIPTION:
URL:https://unasp.br/calendario/evento/recitais-presenciais-4/
LOCATION:Campus Hortolândia\, R. Partor Hugo Gegembauer\, 265\, Hortolandia\, São Paulo\, 13184-010\, Brasil
CATEGORIES:Diretoria de Campus
END:VEVENT
BEGIN:VEVENT
DTSTART;TZID=America/Sao_Paulo:20231025T110000
DTEND;TZID=America/Sao_Paulo:20231105T200000
DTSTAMP:20260421T094228
CREATED:20221101T103017Z
LAST-MODIFIED:20221020T180037Z
UID:73548-1698231600-1699214400@unasp.br
SUMMARY:Intercâmbio – receber alunos da UNACH - Educação Física
DESCRIPTION:
URL:https://unasp.br/calendario/evento/intercambio-receber-alunos-da-unach-educacao-fisica-2/
CATEGORIES:Pró-reitoria de Graduação
END:VEVENT
BEGIN:VEVENT
DTSTART;TZID=America/Sao_Paulo:20231026T110000
DTEND;TZID=America/Sao_Paulo:20231026T200000
DTSTAMP:20260421T094228
CREATED:20221109T135003Z
LAST-MODIFIED:20221109T135041Z
UID:73899-1698318000-1698350400@unasp.br
SUMMARY:Conselho Editorial da UNASPRESS
DESCRIPTION:
URL:https://unasp.br/calendario/evento/conselho-editorial-da-unaspress-17/
CATEGORIES:Pró-reitoria de Pesquisa e Desenvolvimento Institucional
END:VEVENT
BEGIN:VEVENT
DTSTART;TZID=America/Sao_Paulo:20231026T110000
DTEND;TZID=America/Sao_Paulo:20231026T200000
DTSTAMP:20260421T094228
CREATED:20221111T191929Z
LAST-MODIFIED:20221013T192013Z
UID:72859-1698318000-1698350400@unasp.br
SUMMARY:SAEP - Todos os semestres - Engenharia de Produção
DESCRIPTION:
URL:https://unasp.br/calendario/evento/saep-todos-os-semestres-engenharia-de-producao/
CATEGORIES:Pró-reitoria de Graduação
END:VEVENT
BEGIN:VEVENT
DTSTART;TZID=America/Sao_Paulo:20231026T110000
DTEND;TZID=America/Sao_Paulo:20231026T200000
DTSTAMP:20260421T094228
CREATED:20221111T192019Z
LAST-MODIFIED:20221013T192119Z
UID:72861-1698318000-1698350400@unasp.br
SUMMARY:Prova Interdisciplinar Eng. Civil (SAEC)
DESCRIPTION:
URL:https://unasp.br/calendario/evento/prova-interdisciplinar-eng-civil-saec/
CATEGORIES:Pró-reitoria de Graduação
END:VEVENT
BEGIN:VEVENT
DTSTART;TZID=America/Sao_Paulo:20231026T110000
DTEND;TZID=America/Sao_Paulo:20231026T200000
DTSTAMP:20260421T094228
CREATED:20221111T192123Z
LAST-MODIFIED:20221013T192323Z
UID:72863-1698318000-1698350400@unasp.br
SUMMARY:Avaliação Interdisciplinar - SAEGRO
DESCRIPTION:
URL:https://unasp.br/calendario/evento/avaliacao-interdisciplinar-saegro/
CATEGORIES:Pró-reitoria de Graduação
END:VEVENT
BEGIN:VEVENT
DTSTART;TZID=America/Sao_Paulo:20231026T110000
DTEND;TZID=America/Sao_Paulo:20231026T200000
DTSTAMP:20260421T094228
CREATED:20221111T192329Z
LAST-MODIFIED:20221013T192445Z
UID:72869-1698318000-1698350400@unasp.br
SUMMARY:Reconhecimento Melhores Alunos - CContábeis
DESCRIPTION:
URL:https://unasp.br/calendario/evento/reconhecimento-melhores-alunos-ccontabeis/
CATEGORIES:Pró-reitoria de Graduação
END:VEVENT
END:VCALENDAR