BEGIN:VCALENDAR
VERSION:2.0
PRODID:-//UNASP - Calendário Acadêmico - ECPv6.8.3//NONSGML v1.0//EN
CALSCALE:GREGORIAN
METHOD:PUBLISH
X-WR-CALNAME:UNASP - Calendário Acadêmico
X-ORIGINAL-URL:https://unasp.br/calendario
X-WR-CALDESC:Eventos para UNASP - Calendário Acadêmico
REFRESH-INTERVAL;VALUE=DURATION:PT1H
X-Robots-Tag:noindex
X-PUBLISHED-TTL:PT1H
BEGIN:VTIMEZONE
TZID:America/Sao_Paulo
BEGIN:STANDARD
TZOFFSETFROM:-0300
TZOFFSETTO:-0300
TZNAME:-03
DTSTART:20260101T030000
END:STANDARD
END:VTIMEZONE
BEGIN:VEVENT
DTSTART;TZID=America/Sao_Paulo:20260324T110000
DTEND;TZID=America/Sao_Paulo:20260324T140000
DTSTAMP:20260425T202420
CREATED:20260316T133747Z
LAST-MODIFIED:20260316T133747Z
UID:79599-1774350000-1774360800@unasp.br
SUMMARY:CONSELHO DA EDUCAÇÃO BÁSICA - CONSEB
DESCRIPTION:
URL:https://unasp.br/calendario/evento/conselho-da-educacao-basica-conseb-18/
CATEGORIES:Reitoria,Vice-Reitoria para Educação Básica
END:VEVENT
BEGIN:VEVENT
DTSTART;TZID=America/Sao_Paulo:20260324T120000
DTEND;TZID=America/Sao_Paulo:20260324T200000
DTSTAMP:20260425T202420
CREATED:20251030T103026Z
LAST-MODIFIED:20250909T184151Z
UID:78773-1774353600-1774382400@unasp.br
SUMMARY:Reunião CPA
DESCRIPTION:
URL:https://unasp.br/calendario/evento/reuniao-cpa-2/
LOCATION:Reitoria\, Estrada Pr. Walter Boger\, km 3\,5\, Engenheiro Coelho\, São Paulo\, 13165000\, Brasil
END:VEVENT
BEGIN:VEVENT
DTSTART;TZID=America/Sao_Paulo:20260324T140000
DTEND;TZID=America/Sao_Paulo:20260324T160000
DTSTAMP:20260425T202420
CREATED:20260316T133944Z
LAST-MODIFIED:20260316T133944Z
UID:79601-1774360800-1774368000@unasp.br
SUMMARY:CONSELHO DE CULTURA\, CONVIVÊNCIA E EVENTOS – CONVIVE
DESCRIPTION:
URL:https://unasp.br/calendario/evento/conselho-de-cultura-convivencia-e-eventos-convive-18/
CATEGORIES:Reitoria
END:VEVENT
BEGIN:VEVENT
DTSTART;TZID=America/Sao_Paulo:20260324T170000
DTEND;TZID=America/Sao_Paulo:20260324T190000
DTSTAMP:20260425T202420
CREATED:20260316T134047Z
LAST-MODIFIED:20260316T134047Z
UID:79603-1774371600-1774378800@unasp.br
SUMMARY:CONSELHO ADMINISTRATIVO - CONSAD
DESCRIPTION:
URL:https://unasp.br/calendario/evento/conselho-administrativo-consad-19/
CATEGORIES:Reitoria
END:VEVENT
BEGIN:VEVENT
DTSTART;TZID=America/Sao_Paulo:20260324T190000
DTEND;TZID=America/Sao_Paulo:20260324T203000
DTSTAMP:20260425T202420
CREATED:20260316T134135Z
LAST-MODIFIED:20260316T134135Z
UID:79605-1774378800-1774384200@unasp.br
SUMMARY:CONSELHO SUPERIOR UNIVERSITÁRIO - CONSU
DESCRIPTION:
URL:https://unasp.br/calendario/evento/conselho-superior-universitario-consu-17/
CATEGORIES:Reitoria
END:VEVENT
END:VCALENDAR