BEGIN:VCALENDAR
VERSION:2.0
PRODID:-//UNASP - Calendário Acadêmico - ECPv6.8.3//NONSGML v1.0//EN
CALSCALE:GREGORIAN
METHOD:PUBLISH
X-WR-CALNAME:UNASP - Calendário Acadêmico
X-ORIGINAL-URL:https://unasp.br/calendario
X-WR-CALDESC:Eventos para UNASP - Calendário Acadêmico
REFRESH-INTERVAL;VALUE=DURATION:PT1H
X-Robots-Tag:noindex
X-PUBLISHED-TTL:PT1H
BEGIN:VTIMEZONE
TZID:America/Sao_Paulo
BEGIN:STANDARD
TZOFFSETFROM:-0300
TZOFFSETTO:-0300
TZNAME:-03
DTSTART:20260101T030000
END:STANDARD
END:VTIMEZONE
BEGIN:VEVENT
DTSTART;TZID=America/Sao_Paulo:20260404T110000
DTEND;TZID=America/Sao_Paulo:20260530T200000
DTSTAMP:20260425T200632
CREATED:20251030T103037Z
LAST-MODIFIED:20250918T185438Z
UID:78917-1775300400-1780171200@unasp.br
SUMMARY:Curso de Libras - Psicologia
DESCRIPTION:
URL:https://unasp.br/calendario/evento/curso-de-libras-psicologia/
LOCATION:Campus Hortolândia\, R. Partor Hugo Gegembauer\, 265\, Hortolandia\, São Paulo\, 13184-010\, Brasil
CATEGORIES:Pró-reitoria de Graduação
END:VEVENT
BEGIN:VEVENT
DTSTART;TZID=America/Sao_Paulo:20260427T110000
DTEND;TZID=America/Sao_Paulo:20260526T200000
DTSTAMP:20260425T200632
CREATED:20251030T103026Z
LAST-MODIFIED:20251022T202347Z
UID:79478-1777287600-1779825600@unasp.br
SUMMARY:Processo Seletivo EAD M3 e TRI CAMPI para 2026/2
DESCRIPTION:Preenchimento do Formulário Socioeconômico\, Upload/Envio dos documentos Comprobatórios
URL:https://unasp.br/calendario/evento/processo-seletivo-ead-m3-e-tri-campi-para-2026-2-3/
LOCATION:TriCampi/EAD
CATEGORIES:Filantropia
END:VEVENT
BEGIN:VEVENT
DTSTART;TZID=America/Sao_Paulo:20260427T110000
DTEND;TZID=America/Sao_Paulo:20260623T200000
DTSTAMP:20260425T200632
CREATED:20251030T103006Z
LAST-MODIFIED:20251023T175929Z
UID:79484-1777287600-1782244800@unasp.br
SUMMARY:Processo Seletivo EAD M3 e TRI CAMPI para 2026/2
DESCRIPTION:Conferência da documentação/Atendimento Digital
URL:https://unasp.br/calendario/evento/processo-seletivo-ead-m3-e-tri-campi-para-2026-2-5/
LOCATION:TriCampi/EAD
CATEGORIES:Filantropia
END:VEVENT
BEGIN:VEVENT
DTSTART;TZID=America/Sao_Paulo:20260509T110000
DTEND;TZID=America/Sao_Paulo:20260516T200000
DTSTAMP:20260425T200632
CREATED:20251030T103001Z
LAST-MODIFIED:20250923T201856Z
UID:79077-1778324400-1778961600@unasp.br
SUMMARY:Semana de Oração Universitária - 1º Semestre
DESCRIPTION:
URL:https://unasp.br/calendario/evento/semana-de-oracao-universitaria-1o-semestre/
CATEGORIES:Pastoral Universitária
END:VEVENT
BEGIN:VEVENT
DTSTART;TZID=America/Sao_Paulo:20260511T100000
DTEND;TZID=America/Sao_Paulo:20260516T020000
DTSTAMP:20260425T200632
CREATED:20251008T164213Z
LAST-MODIFIED:20251008T164213Z
UID:79291-1778493600-1778896800@unasp.br
SUMMARY:2° Bloco de Aulas Concentradas | MPE e DPE
DESCRIPTION:
URL:https://unasp.br/calendario/evento/2-bloco-de-aulas-concentradas-mpe-e-dpe/
LOCATION:Campus Eng. Coelho\, Estrada Mun. Pr. Walter Boger\, S/N\, Km 3\,5\, Engenheiro Coelho\, São Paulo\, 13165000\, Brasil
CATEGORIES:Pró-reitoria de Pesquisa e Desenvolvimento Institucional
END:VEVENT
BEGIN:VEVENT
DTSTART;TZID=America/Sao_Paulo:20260511T220000
DTEND;TZID=America/Sao_Paulo:20260514T020000
DTSTAMP:20260425T200632
CREATED:20251030T103027Z
LAST-MODIFIED:20250921T002012Z
UID:79025-1778536800-1778724000@unasp.br
SUMMARY:Semana do Curso de Enfermagem
DESCRIPTION:
URL:https://unasp.br/calendario/evento/semana-do-curso-de-enfermagem-9/
LOCATION:Campus São Paulo\, Estrada de Itapecerica da Serra\, 5859\, São Paulo\, SP\, 05858-001\, Brasil
CATEGORIES:Pró-reitoria Acadêmica
END:VEVENT
BEGIN:VEVENT
DTSTART;TZID=America/Sao_Paulo:20260513T110000
DTEND;TZID=America/Sao_Paulo:20260513T200000
DTSTAMP:20260425T200632
CREATED:20260317T182329Z
LAST-MODIFIED:20260317T182329Z
UID:79642-1778670000-1778702400@unasp.br
SUMMARY:Reunião Conselho de Educação DSA
DESCRIPTION:
URL:https://unasp.br/calendario/evento/reuniao-conselho-de-educacao-dsa/
CATEGORIES:DSA
END:VEVENT
END:VCALENDAR