BEGIN:VCALENDAR
VERSION:2.0
PRODID:-//UNASP - Calendário Acadêmico - ECPv6.8.3//NONSGML v1.0//EN
CALSCALE:GREGORIAN
METHOD:PUBLISH
X-WR-CALNAME:UNASP - Calendário Acadêmico
X-ORIGINAL-URL:https://unasp.br/calendario
X-WR-CALDESC:Eventos para UNASP - Calendário Acadêmico
REFRESH-INTERVAL;VALUE=DURATION:PT1H
X-Robots-Tag:noindex
X-PUBLISHED-TTL:PT1H
BEGIN:VTIMEZONE
TZID:America/Sao_Paulo
BEGIN:STANDARD
TZOFFSETFROM:-0300
TZOFFSETTO:-0300
TZNAME:-03
DTSTART:20260101T030000
END:STANDARD
END:VTIMEZONE
BEGIN:VEVENT
DTSTART;TZID=America/Sao_Paulo:20260427T110000
DTEND;TZID=America/Sao_Paulo:20260623T200000
DTSTAMP:20260425T213204
CREATED:20251030T103006Z
LAST-MODIFIED:20251023T175929Z
UID:79484-1777287600-1782244800@unasp.br
SUMMARY:Processo Seletivo EAD M3 e TRI CAMPI para 2026/2
DESCRIPTION:Conferência da documentação/Atendimento Digital
URL:https://unasp.br/calendario/evento/processo-seletivo-ead-m3-e-tri-campi-para-2026-2-5/
LOCATION:TriCampi/EAD
CATEGORIES:Filantropia
END:VEVENT
BEGIN:VEVENT
DTSTART;TZID=America/Sao_Paulo:20260525T110000
DTEND;TZID=America/Sao_Paulo:20260625T200000
DTSTAMP:20260425T213204
CREATED:20251030T103055Z
LAST-MODIFIED:20251021T203623Z
UID:79414-1779706800-1782417600@unasp.br
SUMMARY:Renovação Ed. Básica
DESCRIPTION:Divulgação (e-mail/ligações/acadêmico/redes sociais)
URL:https://unasp.br/calendario/evento/renovacao-ed-basica/
LOCATION:Tricampi
CATEGORIES:Filantropia
END:VEVENT
BEGIN:VEVENT
DTSTART;TZID=America/Sao_Paulo:20260601T100000
DTEND;TZID=America/Sao_Paulo:20260612T020000
DTSTAMP:20260425T213204
CREATED:20251008T190758Z
LAST-MODIFIED:20251008T190758Z
UID:79386-1780308000-1781229600@unasp.br
SUMMARY:Avaliação Oficial P2 | Medicina Veterinária
DESCRIPTION:
URL:https://unasp.br/calendario/evento/avaliacao-oficial-p2-medicina-veterinaria-2/
LOCATION:Campus Eng. Coelho\, Estrada Mun. Pr. Walter Boger\, S/N\, Km 3\,5\, Engenheiro Coelho\, São Paulo\, 13165000\, Brasil
CATEGORIES:Pró-reitoria de Graduação
ORGANIZER;CN="Curso de Medicina Veterin%C3%A1ria":MAILTO:veterinaria.ec@unasp.edu.br
END:VEVENT
BEGIN:VEVENT
DTSTART;TZID=America/Sao_Paulo:20260601T110000
DTEND;TZID=America/Sao_Paulo:20260625T200000
DTSTAMP:20260425T213204
CREATED:20251030T103004Z
LAST-MODIFIED:20251022T181709Z
UID:79426-1780311600-1782417600@unasp.br
SUMMARY:Renovação Ed. Básica
DESCRIPTION:Preenchimento do Formulário Socioeconômico\, Upload/Envio dos documentos Comprobatórios
URL:https://unasp.br/calendario/evento/renovacao-ed-basica-3/
LOCATION:Tricampi
CATEGORIES:Filantropia
END:VEVENT
BEGIN:VEVENT
DTSTART;TZID=America/Sao_Paulo:20260601T110000
DTEND;TZID=America/Sao_Paulo:20260807T200000
DTSTAMP:20260425T213204
CREATED:20251030T133002Z
LAST-MODIFIED:20251022T180607Z
UID:79422-1780311600-1786132800@unasp.br
SUMMARY:Renovação Ed. Básica
DESCRIPTION:Preenchimento do Formulário Socioeconômico\, Upload/Envio dos documentos Comprobatórios
URL:https://unasp.br/calendario/evento/renovacao-ed-basica-2/
LOCATION:Tricampi
CATEGORIES:Filantropia
END:VEVENT
BEGIN:VEVENT
DTSTART;VALUE=DATE:20260611
DTEND;VALUE=DATE:20260613
DTSTAMP:20260425T213204
CREATED:20251008T164221Z
LAST-MODIFIED:20251008T164221Z
UID:79292-1781146800-1781233199@unasp.br
SUMMARY:Visita Técnica ao Concerto OSESP | Música
DESCRIPTION:
URL:https://unasp.br/calendario/evento/visita-tecnica-ao-concerto-osesp-musica/
LOCATION:Campus Eng. Coelho\, Estrada Mun. Pr. Walter Boger\, S/N\, Km 3\,5\, Engenheiro Coelho\, São Paulo\, 13165000\, Brasil
CATEGORIES:Pró-reitoria de Graduação
END:VEVENT
BEGIN:VEVENT
DTSTART;TZID=America/Sao_Paulo:20260611T110000
DTEND;TZID=America/Sao_Paulo:20260611T200000
DTSTAMP:20260425T213204
CREATED:20260317T183648Z
LAST-MODIFIED:20260317T183648Z
UID:79651-1781175600-1781208000@unasp.br
SUMMARY:Comissão Diretiva UCB
DESCRIPTION:
URL:https://unasp.br/calendario/evento/comissao-diretiva-ucb-41/
LOCATION:UCB\, Av. Profa. Magdalena Sanseverino Grosso\, 850\, Artur Nogueira\, São Paulo\, 13160000\, Brasil
CATEGORIES:UCB
END:VEVENT
BEGIN:VEVENT
DTSTART;TZID=America/Sao_Paulo:20260611T210000
DTEND;TZID=America/Sao_Paulo:20260611T220000
DTSTAMP:20260425T213204
CREATED:20251030T103046Z
LAST-MODIFIED:20250921T011044Z
UID:79070-1781211600-1781215200@unasp.br
SUMMARY:Colegiado - Curso de Direito
DESCRIPTION:
URL:https://unasp.br/calendario/evento/colegiado-curso-de-direito-5/
CATEGORIES:Pró-reitoria Acadêmica
END:VEVENT
END:VCALENDAR