BEGIN:VCALENDAR
VERSION:2.0
PRODID:-//UNASP - Calendário Acadêmico - ECPv6.8.3//NONSGML v1.0//EN
CALSCALE:GREGORIAN
METHOD:PUBLISH
X-ORIGINAL-URL:https://unasp.br/calendario
X-WR-CALDESC:Eventos para UNASP - Calendário Acadêmico
REFRESH-INTERVAL;VALUE=DURATION:PT1H
X-Robots-Tag:noindex
X-PUBLISHED-TTL:PT1H
BEGIN:VTIMEZONE
TZID:America/Sao_Paulo
BEGIN:STANDARD
TZOFFSETFROM:-0300
TZOFFSETTO:-0300
TZNAME:-03
DTSTART:20260101T030000
END:STANDARD
END:VTIMEZONE
BEGIN:VEVENT
DTSTART;TZID=America/Sao_Paulo:20260427T110000
DTEND;TZID=America/Sao_Paulo:20260623T200000
DTSTAMP:20260425T213333
CREATED:20251030T103006Z
LAST-MODIFIED:20251023T175929Z
UID:79484-1777287600-1782244800@unasp.br
SUMMARY:Processo Seletivo EAD M3 e TRI CAMPI para 2026/2
DESCRIPTION:Conferência da documentação/Atendimento Digital
URL:https://unasp.br/calendario/evento/processo-seletivo-ead-m3-e-tri-campi-para-2026-2-5/
LOCATION:TriCampi/EAD
CATEGORIES:Filantropia
END:VEVENT
BEGIN:VEVENT
DTSTART;TZID=America/Sao_Paulo:20260525T110000
DTEND;TZID=America/Sao_Paulo:20260625T200000
DTSTAMP:20260425T213333
CREATED:20251030T103055Z
LAST-MODIFIED:20251021T203623Z
UID:79414-1779706800-1782417600@unasp.br
SUMMARY:Renovação Ed. Básica
DESCRIPTION:Divulgação (e-mail/ligações/acadêmico/redes sociais)
URL:https://unasp.br/calendario/evento/renovacao-ed-basica/
LOCATION:Tricampi
CATEGORIES:Filantropia
END:VEVENT
BEGIN:VEVENT
DTSTART;TZID=America/Sao_Paulo:20260601T110000
DTEND;TZID=America/Sao_Paulo:20260625T200000
DTSTAMP:20260425T213333
CREATED:20251030T103004Z
LAST-MODIFIED:20251022T181709Z
UID:79426-1780311600-1782417600@unasp.br
SUMMARY:Renovação Ed. Básica
DESCRIPTION:Preenchimento do Formulário Socioeconômico\, Upload/Envio dos documentos Comprobatórios
URL:https://unasp.br/calendario/evento/renovacao-ed-basica-3/
LOCATION:Tricampi
CATEGORIES:Filantropia
END:VEVENT
BEGIN:VEVENT
DTSTART;TZID=America/Sao_Paulo:20260601T110000
DTEND;TZID=America/Sao_Paulo:20260807T200000
DTSTAMP:20260425T213333
CREATED:20251030T133002Z
LAST-MODIFIED:20251022T180607Z
UID:79422-1780311600-1786132800@unasp.br
SUMMARY:Renovação Ed. Básica
DESCRIPTION:Preenchimento do Formulário Socioeconômico\, Upload/Envio dos documentos Comprobatórios
URL:https://unasp.br/calendario/evento/renovacao-ed-basica-2/
LOCATION:Tricampi
CATEGORIES:Filantropia
END:VEVENT
BEGIN:VEVENT
DTSTART;TZID=America/Sao_Paulo:20260623T110000
DTEND;TZID=America/Sao_Paulo:20260623T200000
DTSTAMP:20260425T213333
CREATED:20251030T103006Z
LAST-MODIFIED:20250918T180648Z
UID:78884-1782212400-1782244800@unasp.br
SUMMARY:Colegiado Psicologia
DESCRIPTION:
URL:https://unasp.br/calendario/evento/colegiado-psicologia-7/
LOCATION:Campus Hortolândia\, R. Partor Hugo Gegembauer\, 265\, Hortolandia\, São Paulo\, 13184-010\, Brasil
CATEGORIES:Pró-reitoria de Graduação
END:VEVENT
BEGIN:VEVENT
DTSTART;TZID=America/Sao_Paulo:20260623T110000
DTEND;TZID=America/Sao_Paulo:20260623T200000
DTSTAMP:20260425T213333
CREATED:20260317T184009Z
LAST-MODIFIED:20260317T184009Z
UID:79659-1782212400-1782244800@unasp.br
SUMMARY:Reunião Conselho de Educação DSA
DESCRIPTION:
URL:https://unasp.br/calendario/evento/reuniao-conselho-de-educacao-dsa-2/
CATEGORIES:DSA
END:VEVENT
BEGIN:VEVENT
DTSTART;TZID=America/Sao_Paulo:20260623T120000
DTEND;TZID=America/Sao_Paulo:20260623T200000
DTSTAMP:20260425T213333
CREATED:20251030T103025Z
LAST-MODIFIED:20250926T132848Z
UID:78795-1782216000-1782244800@unasp.br
SUMMARY:Reunião CPA
DESCRIPTION:
URL:https://unasp.br/calendario/evento/reuniao-cpa-10/
LOCATION:Reitoria\, Estrada Pr. Walter Boger\, km 3\,5\, Engenheiro Coelho\, São Paulo\, 13165000\, Brasil
CATEGORIES:CPA
END:VEVENT
BEGIN:VEVENT
DTSTART;TZID=America/Sao_Paulo:20260623T163000
DTEND;TZID=America/Sao_Paulo:20260623T200000
DTSTAMP:20260425T213333
CREATED:20251001T184654Z
LAST-MODIFIED:20251001T184654Z
UID:79256-1782232200-1782244800@unasp.br
SUMMARY:NDE  Comunicação - Social e Jornalismo
DESCRIPTION:
URL:https://unasp.br/calendario/evento/nde-comunicacao-social-e-jornalismo-4/
LOCATION:Campus Eng. Coelho\, Estrada Mun. Pr. Walter Boger\, S/N\, Km 3\,5\, Engenheiro Coelho\, São Paulo\, 13165000\, Brasil
CATEGORIES:Pró-reitoria de Graduação
END:VEVENT
BEGIN:VEVENT
DTSTART;TZID=America/Sao_Paulo:20260623T173000
DTEND;TZID=America/Sao_Paulo:20260623T203000
DTSTAMP:20260425T213333
CREATED:20251008T164629Z
LAST-MODIFIED:20251008T164629Z
UID:79300-1782235800-1782246600@unasp.br
SUMMARY:Reunião de Colegiado | Pedagogia-EC
DESCRIPTION:
URL:https://unasp.br/calendario/evento/reuniao-de-colegiado-pedagogia-ec-2/
LOCATION:Campus Eng. Coelho\, Estrada Mun. Pr. Walter Boger\, S/N\, Km 3\,5\, Engenheiro Coelho\, São Paulo\, 13165000\, Brasil
CATEGORIES:Pró-reitoria de Graduação
END:VEVENT
BEGIN:VEVENT
DTSTART;TZID=America/Sao_Paulo:20260623T180000
DTEND;TZID=America/Sao_Paulo:20260623T210000
DTSTAMP:20260425T213333
CREATED:20250930T103037Z
LAST-MODIFIED:20250921T005049Z
UID:79048-1782237600-1782248400@unasp.br
SUMMARY:Colegiado - Curso de Arquitetura e Urbanismo
DESCRIPTION:
URL:https://unasp.br/calendario/evento/colegiado-curso-de-arquitetura-e-urbanismo-2/
CATEGORIES:Pró-reitoria Acadêmica
END:VEVENT
END:VCALENDAR