BEGIN:VCALENDAR
VERSION:2.0
PRODID:-//UNASP - Calendário Acadêmico - ECPv6.8.3//NONSGML v1.0//EN
CALSCALE:GREGORIAN
METHOD:PUBLISH
X-ORIGINAL-URL:https://unasp.br/calendario
X-WR-CALDESC:Eventos para UNASP - Calendário Acadêmico
REFRESH-INTERVAL;VALUE=DURATION:PT1H
X-Robots-Tag:noindex
X-PUBLISHED-TTL:PT1H
BEGIN:VTIMEZONE
TZID:America/Sao_Paulo
BEGIN:STANDARD
TZOFFSETFROM:-0300
TZOFFSETTO:-0300
TZNAME:-03
DTSTART:20230101T030000
END:STANDARD
END:VTIMEZONE
BEGIN:VEVENT
DTSTART;VALUE=DATE:20230901
DTEND;VALUE=DATE:20230903
DTSTAMP:20260421T070426
CREATED:20230118T143708Z
LAST-MODIFIED:20230118T143708Z
UID:74563-1693537200-1693623599@unasp.br
SUMMARY:Culto de Gratidão IDEC
DESCRIPTION:
URL:https://unasp.br/calendario/evento/culto-de-gratidao-idec-6/
CATEGORIES:Pró-reitoria Desenvolvimento Espiritual, Comunitário e Estudantil
END:VEVENT
BEGIN:VEVENT
DTSTART;VALUE=DATE:20230901
DTEND;VALUE=DATE:20231002
DTSTAMP:20260421T070426
CREATED:20221124T173307Z
LAST-MODIFIED:20221124T173307Z
UID:74146-1693537200-1696129199@unasp.br
SUMMARY:Setembro Amarelo - Recursos Humanos
DESCRIPTION:
URL:https://unasp.br/calendario/evento/setembro-amarelo-recursos-humanos/
CATEGORIES:Reitoria
END:VEVENT
BEGIN:VEVENT
DTSTART;TZID=America/Sao_Paulo:20230901T110000
DTEND;TZID=America/Sao_Paulo:20230901T200000
DTSTAMP:20260421T070426
CREATED:20221101T103026Z
LAST-MODIFIED:20221020T180511Z
UID:73262-1693566000-1693598400@unasp.br
SUMMARY:Apresentação dos projetos de extensão do curso - Pedagogia
DESCRIPTION:
URL:https://unasp.br/calendario/evento/apresentacao-dos-projetos-de-extensao-do-curso-pedagogia/
CATEGORIES:Pró-reitoria de Graduação
END:VEVENT
BEGIN:VEVENT
DTSTART;TZID=America/Sao_Paulo:20230901T110000
DTEND;TZID=America/Sao_Paulo:20230901T200000
DTSTAMP:20260421T070426
CREATED:20221111T181856Z
LAST-MODIFIED:20221129T134250Z
UID:72772-1693566000-1693598400@unasp.br
SUMMARY:Culto do Envio 3º ano - Teologia
DESCRIPTION:
URL:https://unasp.br/calendario/evento/culto-do-envio-3o-ano-teologia-2/
CATEGORIES:Pró-reitoria de Graduação
END:VEVENT
BEGIN:VEVENT
DTSTART;TZID=America/Sao_Paulo:20230901T110000
DTEND;TZID=America/Sao_Paulo:20230901T200000
DTSTAMP:20260421T070426
CREATED:20230119T182014Z
LAST-MODIFIED:20230119T182014Z
UID:74731-1693566000-1693598400@unasp.br
SUMMARY:Dia do Educador Físico
DESCRIPTION:
URL:https://unasp.br/calendario/evento/dia-do-educador-fisico/
LOCATION:Campus Hortolândia\, R. Partor Hugo Gegembauer\, 265\, Hortolandia\, São Paulo\, 13184-010\, Brasil
CATEGORIES:Datas Comemorativas, Recessos e Feriados
END:VEVENT
BEGIN:VEVENT
DTSTART;TZID=America/Sao_Paulo:20230901T213000
DTEND;TZID=America/Sao_Paulo:20230902T003000
DTSTAMP:20260421T070426
CREATED:20230119T172430Z
LAST-MODIFIED:20230119T172430Z
UID:74662-1693603800-1693614600@unasp.br
SUMMARY:Musical Semana da Arte - Igreja
DESCRIPTION:
URL:https://unasp.br/calendario/evento/musical-semana-da-arte-igreja/
LOCATION:Campus Hortolândia\, R. Partor Hugo Gegembauer\, 265\, Hortolandia\, São Paulo\, 13184-010\, Brasil
CATEGORIES:Diretoria de Campus
END:VEVENT
BEGIN:VEVENT
DTSTART;TZID=America/Sao_Paulo:20230903T103000
DTEND;TZID=America/Sao_Paulo:20230903T213000
DTSTAMP:20260421T070426
CREATED:20221101T103023Z
LAST-MODIFIED:20221206T145425Z
UID:73676-1693737000-1693776600@unasp.br
SUMMARY:Jogos Escolares UNASP Fund II e E.M. (Tricamp)
DESCRIPTION:
URL:https://unasp.br/calendario/evento/jogos-escolares-unasp-fund-ii-e-e-m-tricamp/
CATEGORIES:Vice-Reitoria para Educação Básica
END:VEVENT
BEGIN:VEVENT
DTSTART;TZID=America/Sao_Paulo:20230904T110000
DTEND;TZID=America/Sao_Paulo:20230904T200000
DTSTAMP:20260421T070426
CREATED:20221111T182008Z
LAST-MODIFIED:20221013T182111Z
UID:72775-1693825200-1693857600@unasp.br
SUMMARY:Reunião de NDE - Farmácia
DESCRIPTION:
URL:https://unasp.br/calendario/evento/reuniao-de-nde-farmacia-6/
CATEGORIES:Pró-reitoria de Graduação
END:VEVENT
BEGIN:VEVENT
DTSTART;VALUE=DATE:20230905
DTEND;VALUE=DATE:20230907
DTSTAMP:20260421T070426
CREATED:20221124T171048Z
LAST-MODIFIED:20221124T171048Z
UID:74112-1693882800-1693969199@unasp.br
SUMMARY:Integração - Recursos humanos
DESCRIPTION:
URL:https://unasp.br/calendario/evento/integracao-recursos-humanos-9/
CATEGORIES:Reitoria
END:VEVENT
BEGIN:VEVENT
DTSTART;TZID=America/Sao_Paulo:20230905T110000
DTEND;TZID=America/Sao_Paulo:20230905T200000
DTSTAMP:20260421T070426
CREATED:20221111T182124Z
LAST-MODIFIED:20221013T182236Z
UID:72777-1693911600-1693944000@unasp.br
SUMMARY:Reunião de Colegiado -Comunicação Social e Jornalismo
DESCRIPTION:
URL:https://unasp.br/calendario/evento/reuniao-de-colegiado-comunicacao-social-e-jornalismo-6/
CATEGORIES:Pró-reitoria de Graduação
END:VEVENT
BEGIN:VEVENT
DTSTART;TZID=America/Sao_Paulo:20230905T110000
DTEND;TZID=America/Sao_Paulo:20230905T200000
DTSTAMP:20260421T070426
CREATED:20221111T182242Z
LAST-MODIFIED:20221013T182330Z
UID:72779-1693911600-1693944000@unasp.br
SUMMARY:Reunião de Colegiado - Farmácia
DESCRIPTION:
URL:https://unasp.br/calendario/evento/reuniao-de-colegiado-farmacia-6/
CATEGORIES:Pró-reitoria de Graduação
END:VEVENT
BEGIN:VEVENT
DTSTART;TZID=America/Sao_Paulo:20230905T110000
DTEND;TZID=America/Sao_Paulo:20230905T200000
DTSTAMP:20260421T070426
CREATED:20221111T182340Z
LAST-MODIFIED:20221013T182521Z
UID:72781-1693911600-1693944000@unasp.br
SUMMARY:Projeto Mutirão de Natal - CContábeis
DESCRIPTION:
URL:https://unasp.br/calendario/evento/projeto-mutirao-de-natal-ccontabeis/
CATEGORIES:Pró-reitoria de Graduação
END:VEVENT
BEGIN:VEVENT
DTSTART;TZID=America/Sao_Paulo:20230906T110000
DTEND;TZID=America/Sao_Paulo:20230906T200000
DTSTAMP:20260421T070426
CREATED:20221101T103018Z
LAST-MODIFIED:20221017T004233Z
UID:73327-1693998000-1694030400@unasp.br
SUMMARY:Reunião de NDE - Curso de Educação Física
DESCRIPTION:
URL:https://unasp.br/calendario/evento/reuniao-de-nde-curso-de-educacao-fisica-6/
CATEGORIES:Pró-reitoria de Graduação
END:VEVENT
BEGIN:VEVENT
DTSTART;TZID=America/Sao_Paulo:20230906T213000
DTEND;TZID=America/Sao_Paulo:20230907T003000
DTSTAMP:20260421T070426
CREATED:20230119T172545Z
LAST-MODIFIED:20230119T172545Z
UID:74664-1694035800-1694046600@unasp.br
SUMMARY:Espaço Nobre - Música Erudita
DESCRIPTION:
URL:https://unasp.br/calendario/evento/espaco-nobre-musica-erudita/
LOCATION:Campus Hortolândia\, R. Partor Hugo Gegembauer\, 265\, Hortolandia\, São Paulo\, 13184-010\, Brasil
CATEGORIES:Diretoria de Campus
END:VEVENT
BEGIN:VEVENT
DTSTART;TZID=America/Sao_Paulo:20230907T110000
DTEND;TZID=America/Sao_Paulo:20230907T200000
DTSTAMP:20260421T070426
CREATED:20221101T103048Z
LAST-MODIFIED:20221013T195722Z
UID:72953-1694084400-1694116800@unasp.br
SUMMARY:Encerramento Matrículas - Pós-Graduação - P3
DESCRIPTION:
URL:https://unasp.br/calendario/evento/encerramento-matriculas-pos-graduacao-p3/
LOCATION:Campus Virtual\, Estrada Mun. Pr. Walter Boger\, S/N\, Km 3\,5\, Engenheiro Coelho\, São Paulo\, 13165000\, Brasil
CATEGORIES:Pró-reitoria Pós-Graduação Lato Sensu
END:VEVENT
BEGIN:VEVENT
DTSTART;TZID=America/Sao_Paulo:20230907T110000
DTEND;TZID=America/Sao_Paulo:20230907T200000
DTSTAMP:20260421T070426
CREATED:20221109T131956Z
LAST-MODIFIED:20221109T131956Z
UID:73868-1694084400-1694116800@unasp.br
SUMMARY:Independência
DESCRIPTION:
URL:https://unasp.br/calendario/evento/independencia-2/
CATEGORIES:Datas Comemorativas, Recessos e Feriados
END:VEVENT
BEGIN:VEVENT
DTSTART;TZID=America/Sao_Paulo:20230907T213000
DTEND;TZID=America/Sao_Paulo:20230908T003000
DTSTAMP:20260421T070426
CREATED:20230119T172728Z
LAST-MODIFIED:20230213T195236Z
UID:74666-1694122200-1694133000@unasp.br
SUMMARY:Recesso Independência - Educação Básica
DESCRIPTION:
URL:https://unasp.br/calendario/evento/recesso-independencia/
LOCATION:Campus Hortolândia\, R. Partor Hugo Gegembauer\, 265\, Hortolandia\, São Paulo\, 13184-010\, Brasil
CATEGORIES:Datas Comemorativas, Recessos e Feriados
END:VEVENT
BEGIN:VEVENT
DTSTART;VALUE=DATE:20230908
DTEND;VALUE=DATE:20230912
DTSTAMP:20260421T070426
CREATED:20230118T143910Z
LAST-MODIFIED:20230118T143910Z
UID:74565-1694142000-1694401199@unasp.br
SUMMARY:Encontro de jovens com Cristo EJUC
DESCRIPTION:
URL:https://unasp.br/calendario/evento/encontro-de-jovens-com-cristo-ejuc-2/
CATEGORIES:Pró-reitoria Desenvolvimento Espiritual, Comunitário e Estudantil
END:VEVENT
BEGIN:VEVENT
DTSTART;TZID=America/Sao_Paulo:20230909T220000
DTEND;TZID=America/Sao_Paulo:20230910T020000
DTSTAMP:20260421T070426
CREATED:20221101T103032Z
LAST-MODIFIED:20221017T004110Z
UID:73084-1694296800-1694311200@unasp.br
SUMMARY:Comemoração Dia do Administrador - Curso de Administração
DESCRIPTION:
URL:https://unasp.br/calendario/evento/comemoracao-dia-do-administrador-curso-de-administracao/
LOCATION:Campus São Paulo\, Estrada de Itapecerica da Serra\, 5859\, São Paulo\, SP\, 05858-001\, Brasil
CATEGORIES:Pró-reitoria de Graduação
END:VEVENT
BEGIN:VEVENT
DTSTART;TZID=America/Sao_Paulo:20230910T103000
DTEND;TZID=America/Sao_Paulo:20230917T010000
DTSTAMP:20260421T070426
CREATED:20221111T184051Z
LAST-MODIFIED:20230508T172200Z
UID:72806-1694341800-1694912400@unasp.br
SUMMARY:Semana da Arte - Música
DESCRIPTION:
URL:https://unasp.br/calendario/evento/semana-da-arte-musica/
CATEGORIES:Pró-reitoria de Graduação
END:VEVENT
BEGIN:VEVENT
DTSTART;TZID=America/Sao_Paulo:20230910T110000
DTEND;TZID=America/Sao_Paulo:20230910T200000
DTSTAMP:20260421T070426
CREATED:20221111T182535Z
LAST-MODIFIED:20221013T182748Z
UID:72783-1694343600-1694376000@unasp.br
SUMMARY:Início do Estágio de Evangelização - Teologia
DESCRIPTION:
URL:https://unasp.br/calendario/evento/inicio-do-estagio-de-evangelizacao-teologia/
CATEGORIES:Pró-reitoria de Graduação
END:VEVENT
BEGIN:VEVENT
DTSTART;TZID=America/Sao_Paulo:20230911T100000
DTEND;TZID=America/Sao_Paulo:20230915T200000
DTSTAMP:20260421T070426
CREATED:20221101T103024Z
LAST-MODIFIED:20221212T171127Z
UID:73672-1694426400-1694808000@unasp.br
SUMMARY:Semana de Oração - Educação Básica
DESCRIPTION:
URL:https://unasp.br/calendario/evento/semana-de-oracao-14/
LOCATION:Campus Hortolândia\, R. Partor Hugo Gegembauer\, 265\, Hortolandia\, São Paulo\, 13184-010\, Brasil
CATEGORIES:Diretoria de Campus
END:VEVENT
BEGIN:VEVENT
DTSTART;TZID=America/Sao_Paulo:20230911T110000
DTEND;TZID=America/Sao_Paulo:20230911T200000
DTSTAMP:20260421T070426
CREATED:20221101T103003Z
LAST-MODIFIED:20221020T180457Z
UID:73504-1694430000-1694462400@unasp.br
SUMMARY:Visita técnica do Curso de Ciências Contábeis
DESCRIPTION:
URL:https://unasp.br/calendario/evento/visita-tecnica-do-curso-de-ciencias-contabeis-2/
CATEGORIES:Pró-reitoria de Graduação
END:VEVENT
BEGIN:VEVENT
DTSTART;TZID=America/Sao_Paulo:20230911T110000
DTEND;TZID=America/Sao_Paulo:20230911T200000
DTSTAMP:20260421T070426
CREATED:20221101T103049Z
LAST-MODIFIED:20221017T003912Z
UID:73172-1694430000-1694462400@unasp.br
SUMMARY:Reunião de NDE - Curso de Nutrição
DESCRIPTION:
URL:https://unasp.br/calendario/evento/reuniao-de-nde-curso-de-nutricao-7/
LOCATION:Campus São Paulo\, Estrada de Itapecerica da Serra\, 5859\, São Paulo\, SP\, 05858-001\, Brasil
CATEGORIES:Pró-reitoria de Graduação
END:VEVENT
BEGIN:VEVENT
DTSTART;TZID=America/Sao_Paulo:20230911T110000
DTEND;TZID=America/Sao_Paulo:20230911T200000
DTSTAMP:20260421T070426
CREATED:20221101T103050Z
LAST-MODIFIED:20221017T003821Z
UID:73222-1694430000-1694462400@unasp.br
SUMMARY:Reunião de NDE - Curso de Gastronomia
DESCRIPTION:
URL:https://unasp.br/calendario/evento/reuniao-de-nde-curso-de-gastronomia-8/
LOCATION:Campus São Paulo\, Estrada de Itapecerica da Serra\, 5859\, São Paulo\, SP\, 05858-001\, Brasil
CATEGORIES:Pró-reitoria de Graduação
END:VEVENT
BEGIN:VEVENT
DTSTART;TZID=America/Sao_Paulo:20230911T110000
DTEND;TZID=America/Sao_Paulo:20230913T200000
DTSTAMP:20260421T070426
CREATED:20221101T103048Z
LAST-MODIFIED:20221020T180449Z
UID:73454-1694430000-1694635200@unasp.br
SUMMARY:Setembro Amarelo – Extensão - Psicologia
DESCRIPTION:
URL:https://unasp.br/calendario/evento/setembro-amarelo-extensao-psicologia/
CATEGORIES:Pró-reitoria de Graduação
END:VEVENT
BEGIN:VEVENT
DTSTART;TZID=America/Sao_Paulo:20230911T110000
DTEND;TZID=America/Sao_Paulo:20230914T200000
DTSTAMP:20260421T070426
CREATED:20221111T182918Z
LAST-MODIFIED:20221013T183118Z
UID:72787-1694430000-1694721600@unasp.br
SUMMARY:Semana Acadêmica - Med. Veterinária
DESCRIPTION:
URL:https://unasp.br/calendario/evento/semana-academica-med-veterinaria/
CATEGORIES:Pró-reitoria de Graduação
END:VEVENT
BEGIN:VEVENT
DTSTART;TZID=America/Sao_Paulo:20230911T110000
DTEND;TZID=America/Sao_Paulo:20230915T200000
DTSTAMP:20260421T070426
CREATED:20230119T173626Z
LAST-MODIFIED:20230119T173626Z
UID:74668-1694430000-1694808000@unasp.br
SUMMARY:Semana de Oração
DESCRIPTION:
URL:https://unasp.br/calendario/evento/semana-de-oracao-15/
LOCATION:Campus Hortolândia\, R. Partor Hugo Gegembauer\, 265\, Hortolandia\, São Paulo\, 13184-010\, Brasil
CATEGORIES:Diretoria de Campus
END:VEVENT
BEGIN:VEVENT
DTSTART;TZID=America/Sao_Paulo:20230911T220000
DTEND;TZID=America/Sao_Paulo:20230912T020000
DTSTAMP:20260421T070426
CREATED:20221101T103032Z
LAST-MODIFIED:20221017T003726Z
UID:73086-1694469600-1694484000@unasp.br
SUMMARY:Apresentação do Projeto Integrador para as Turmas - Curso de Administração
DESCRIPTION:
URL:https://unasp.br/calendario/evento/apresentacao-do-projeto-integrador-para-as-turmas-curso-de-administracao-3/
LOCATION:Campus São Paulo\, Estrada de Itapecerica da Serra\, 5859\, São Paulo\, SP\, 05858-001\, Brasil
CATEGORIES:Pró-reitoria de Graduação
END:VEVENT
BEGIN:VEVENT
DTSTART;TZID=America/Sao_Paulo:20230912T110000
DTEND;TZID=America/Sao_Paulo:20230912T200000
DTSTAMP:20260421T070426
CREATED:20221101T103033Z
LAST-MODIFIED:20221020T180334Z
UID:73344-1694516400-1694548800@unasp.br
SUMMARY:Visita Técnica curso de Administração
DESCRIPTION:
URL:https://unasp.br/calendario/evento/visita-tecnica-curso-de-administracao-2/
CATEGORIES:Pró-reitoria de Graduação
END:VEVENT
END:VCALENDAR