BEGIN:VCALENDAR
VERSION:2.0
PRODID:-//UNASP - Calendário Acadêmico - ECPv6.8.3//NONSGML v1.0//EN
CALSCALE:GREGORIAN
METHOD:PUBLISH
X-ORIGINAL-URL:https://unasp.br/calendario
X-WR-CALDESC:Eventos para UNASP - Calendário Acadêmico
REFRESH-INTERVAL;VALUE=DURATION:PT1H
X-Robots-Tag:noindex
X-PUBLISHED-TTL:PT1H
BEGIN:VTIMEZONE
TZID:America/Sao_Paulo
BEGIN:STANDARD
TZOFFSETFROM:-0300
TZOFFSETTO:-0300
TZNAME:-03
DTSTART:20260101T030000
END:STANDARD
END:VTIMEZONE
BEGIN:VEVENT
DTSTART;TZID=America/Sao_Paulo:20260601T110000
DTEND;TZID=America/Sao_Paulo:20260807T200000
DTSTAMP:20260425T213232
CREATED:20251030T133002Z
LAST-MODIFIED:20251022T180607Z
UID:79422-1780311600-1786132800@unasp.br
SUMMARY:Renovação Ed. Básica
DESCRIPTION:Preenchimento do Formulário Socioeconômico\, Upload/Envio dos documentos Comprobatórios
URL:https://unasp.br/calendario/evento/renovacao-ed-basica-2/
LOCATION:Tricampi
CATEGORIES:Filantropia
END:VEVENT
BEGIN:VEVENT
DTSTART;TZID=America/Sao_Paulo:20260624T110000
DTEND;TZID=America/Sao_Paulo:20260720T200000
DTSTAMP:20260425T213232
CREATED:20251030T103023Z
LAST-MODIFIED:20251023T180253Z
UID:79488-1782298800-1784577600@unasp.br
SUMMARY:Processo Seletivo EAD M3 e TRI CAMPI para 2026/2
DESCRIPTION:Análise documental/Assistente Social (parecer social30
URL:https://unasp.br/calendario/evento/processo-seletivo-ead-m3-e-tri-campi-para-2026-2-7/
LOCATION:TriCampi/EAD
CATEGORIES:Filantropia
END:VEVENT
BEGIN:VEVENT
DTSTART;TZID=America/Sao_Paulo:20260630T110000
DTEND;TZID=America/Sao_Paulo:20260729T200000
DTSTAMP:20260425T213232
CREATED:20251030T103002Z
LAST-MODIFIED:20250926T132900Z
UID:78966-1782817200-1785355200@unasp.br
SUMMARY:Férias Docentes
DESCRIPTION:
URL:https://unasp.br/calendario/evento/ferias-docentes-7/
CATEGORIES:Diretoria de Graduação
END:VEVENT
BEGIN:VEVENT
DTSTART;TZID=America/Sao_Paulo:20260715T110000
DTEND;TZID=America/Sao_Paulo:20260715T200000
DTSTAMP:20260425T213232
CREATED:20251030T103051Z
LAST-MODIFIED:20251023T180118Z
UID:79486-1784113200-1784145600@unasp.br
SUMMARY:Processo Seletivo EAD M3 e TRI CAMPI para 2026/2
DESCRIPTION:Prazo final/ envio da documentação solicitados (Ass Social). Perfil Socioeconômico
URL:https://unasp.br/calendario/evento/processo-seletivo-ead-m3-e-tri-campi-para-2026-2-6/
LOCATION:TriCampi/EAD
CATEGORIES:Filantropia
END:VEVENT
BEGIN:VEVENT
DTSTART;TZID=America/Sao_Paulo:20260716T110000
DTEND;TZID=America/Sao_Paulo:20260716T200000
DTSTAMP:20260425T213232
CREATED:20251030T103018Z
LAST-MODIFIED:20250910T185021Z
UID:78802-1784199600-1784232000@unasp.br
SUMMARY:Colação Extraordinária da Graduação
DESCRIPTION:
URL:https://unasp.br/calendario/evento/colacao-extraordinaria-da-graduacao-2/
LOCATION:TriCampi/EAD
CATEGORIES:Diretoria de Graduação,Pró-reitoria de Graduação
END:VEVENT
BEGIN:VEVENT
DTSTART;TZID=America/Sao_Paulo:20260716T110000
DTEND;TZID=America/Sao_Paulo:20260716T200000
DTSTAMP:20260425T213232
CREATED:20260317T184232Z
LAST-MODIFIED:20260317T184232Z
UID:79665-1784199600-1784232000@unasp.br
SUMMARY:Comissão Diretiva UCB
DESCRIPTION:
URL:https://unasp.br/calendario/evento/comissao-diretiva-ucb-42/
LOCATION:UCB\, Av. Profa. Magdalena Sanseverino Grosso\, 850\, Artur Nogueira\, São Paulo\, 13160000\, Brasil
CATEGORIES:UCB
END:VEVENT
BEGIN:VEVENT
DTSTART;TZID=America/Sao_Paulo:20260720T110000
DTEND;TZID=America/Sao_Paulo:20260818T200000
DTSTAMP:20260425T213232
CREATED:20251030T103009Z
LAST-MODIFIED:20251023T183149Z
UID:79500-1784545200-1787083200@unasp.br
SUMMARY:Renovação de Bolsas da Educação Superior Tri-Campi e EAD para 2027
DESCRIPTION:Divulgação (e-mail/ligações/acadêmico/redes sociais)
URL:https://unasp.br/calendario/evento/renovacao-de-bolsas-da-educacao-superior-tri-campi-e-ead-para-2027/
LOCATION:TriCampi/EAD
CATEGORIES:Filantropia
END:VEVENT
BEGIN:VEVENT
DTSTART;TZID=America/Sao_Paulo:20260721T110000
DTEND;TZID=America/Sao_Paulo:20260721T200000
DTSTAMP:20260425T213232
CREATED:20251030T103004Z
LAST-MODIFIED:20251023T180909Z
UID:79490-1784631600-1784664000@unasp.br
SUMMARY:Processo Seletivo EAD M3 e TRI CAMPI para 2026/2
DESCRIPTION:Reunião da Comissão Interna de bolsas
URL:https://unasp.br/calendario/evento/processo-seletivo-ead-m3-e-tri-campi-para-2026-2-8/
LOCATION:TriCampi/EAD
CATEGORIES:Filantropia
END:VEVENT
BEGIN:VEVENT
DTSTART;TZID=America/Sao_Paulo:20260722T110000
DTEND;TZID=America/Sao_Paulo:20260722T200000
DTSTAMP:20260425T213232
CREATED:20251030T103015Z
LAST-MODIFIED:20251023T181043Z
UID:79492-1784718000-1784750400@unasp.br
SUMMARY:Processo Seletivo EAD M3 e TRI CAMPI para 2026/2
DESCRIPTION:Divulgação resultado do processo Seletivo 1ª Chamada
URL:https://unasp.br/calendario/evento/processo-seletivo-ead-m3-e-tri-campi-para-2026-2-9/
LOCATION:TriCampi/EAD
CATEGORIES:Filantropia
END:VEVENT
BEGIN:VEVENT
DTSTART;TZID=America/Sao_Paulo:20260727T110000
DTEND;TZID=America/Sao_Paulo:20260727T200000
DTSTAMP:20260425T213232
CREATED:20251030T103054Z
LAST-MODIFIED:20251023T185947Z
UID:79502-1785150000-1785182400@unasp.br
SUMMARY:Renovação de Bolsas da Educação Superior Tri-Campi e EAD para 2027
DESCRIPTION:Publicação do Edital
URL:https://unasp.br/calendario/evento/renovacao-de-bolsas-da-educacao-superior-tri-campi-e-ead-para-2027-2/
LOCATION:TriCampi/EAD
CATEGORIES:Filantropia
END:VEVENT
BEGIN:VEVENT
DTSTART;TZID=America/Sao_Paulo:20260728T110000
DTEND;TZID=America/Sao_Paulo:20260818T200000
DTSTAMP:20260425T213232
CREATED:20251030T103023Z
LAST-MODIFIED:20251023T183451Z
UID:79504-1785236400-1787083200@unasp.br
SUMMARY:Renovação de Bolsas da Educação Superior Tri-Campi e EAD para 2027
DESCRIPTION:Preenchimento do Formulário Socioeconômico\, Upload/Envio dos documentos Comprobatórios
URL:https://unasp.br/calendario/evento/renovacao-de-bolsas-da-educacao-superior-tri-campi-e-ead-para-2027-3/
LOCATION:TriCampi/EAD
CATEGORIES:Filantropia
END:VEVENT
BEGIN:VEVENT
DTSTART;TZID=America/Sao_Paulo:20260728T110000
DTEND;TZID=America/Sao_Paulo:20260915T200000
DTSTAMP:20260425T213232
CREATED:20251030T103040Z
LAST-MODIFIED:20251023T190353Z
UID:79509-1785236400-1789502400@unasp.br
SUMMARY:Renovação de Bolsas da Educação Superior Tri-Campi e EAD para 2027
DESCRIPTION:Conferência da documentação/Atendimento Digital
URL:https://unasp.br/calendario/evento/renovacao-de-bolsas-da-educacao-superior-tri-campi-e-ead-para-2027-5/
LOCATION:TriCampi/EAD
CATEGORIES:Filantropia
END:VEVENT
BEGIN:VEVENT
DTSTART;TZID=America/Sao_Paulo:20260728T163000
DTEND;TZID=America/Sao_Paulo:20260728T200000
DTSTAMP:20260425T213232
CREATED:20250930T171911Z
LAST-MODIFIED:20251001T175139Z
UID:79183-1785256200-1785268800@unasp.br
SUMMARY:NDE Comunicação -Social e Jornalismo
DESCRIPTION:
URL:https://unasp.br/calendario/evento/nde-comunicacao-social-e-jornalismo-2/
LOCATION:Campus Eng. Coelho\, Estrada Mun. Pr. Walter Boger\, S/N\, Km 3\,5\, Engenheiro Coelho\, São Paulo\, 13165000\, Brasil
CATEGORIES:Pró-reitoria de Graduação
END:VEVENT
BEGIN:VEVENT
DTSTART;TZID=America/Sao_Paulo:20260729T110000
DTEND;TZID=America/Sao_Paulo:20260729T200000
DTSTAMP:20260425T213232
CREATED:20251030T103048Z
LAST-MODIFIED:20250919T165621Z
UID:78999-1785322800-1785355200@unasp.br
SUMMARY:Reunião de Professores - Medicina
DESCRIPTION:
URL:https://unasp.br/calendario/evento/reuniao-de-professores-medicina/
LOCATION:Campus Hortolândia\, R. Partor Hugo Gegembauer\, 265\, Hortolandia\, São Paulo\, 13184-010\, Brasil
CATEGORIES:Pró-reitoria de Graduação
ORGANIZER;CN="Faculdade de Ci%C3%AAncias M%C3%A9dicas":MAILTO:eliane.miyashita@unasp.edu.br
END:VEVENT
BEGIN:VEVENT
DTSTART;TZID=America/Sao_Paulo:20260729T163000
DTEND;TZID=America/Sao_Paulo:20260729T200000
DTSTAMP:20260425T213232
CREATED:20250930T172550Z
LAST-MODIFIED:20250930T172550Z
UID:79186-1785342600-1785355200@unasp.br
SUMMARY:Colegiado Comunicação -Social e Jornalismo
DESCRIPTION:
URL:https://unasp.br/calendario/evento/colegiado-comunicacao-social-e-jornalismo-3/
LOCATION:Campus Eng. Coelho\, Estrada Mun. Pr. Walter Boger\, S/N\, Km 3\,5\, Engenheiro Coelho\, São Paulo\, 13165000\, Brasil
CATEGORIES:Pró-reitoria de Graduação
END:VEVENT
BEGIN:VEVENT
DTSTART;TZID=America/Sao_Paulo:20260730T110000
DTEND;TZID=America/Sao_Paulo:20260730T200000
DTSTAMP:20260425T213232
CREATED:20251030T103002Z
LAST-MODIFIED:20251022T182442Z
UID:79431-1785409200-1785441600@unasp.br
SUMMARY:Renovação Ed. Básica
DESCRIPTION:Prazo final para os documentos invalidados ( Pendentes)
URL:https://unasp.br/calendario/evento/renovacao-ed-basica-4/
LOCATION:Tricampi
CATEGORIES:Filantropia
END:VEVENT
BEGIN:VEVENT
DTSTART;TZID=America/Sao_Paulo:20260730T110000
DTEND;TZID=America/Sao_Paulo:20260730T200000
DTSTAMP:20260425T213232
CREATED:20251030T103055Z
LAST-MODIFIED:20250919T143504Z
UID:78961-1785409200-1785441600@unasp.br
SUMMARY:Início das Aulas na Educação Superior - 2º Semestre
DESCRIPTION:
URL:https://unasp.br/calendario/evento/inicio-das-aulas-na-educacao-superior-2o-semestre/
CATEGORIES:Pró-reitoria de Graduação
END:VEVENT
BEGIN:VEVENT
DTSTART;TZID=America/Sao_Paulo:20260730T110000
DTEND;TZID=America/Sao_Paulo:20260730T200000
DTSTAMP:20260425T213232
CREATED:20260317T184325Z
LAST-MODIFIED:20260317T184325Z
UID:79667-1785409200-1785441600@unasp.br
SUMMARY:Inicio das Aulas Educação Superior
DESCRIPTION:
URL:https://unasp.br/calendario/evento/inicio-das-aulas-educacao-superior-2/
CATEGORIES:Pró-reitoria de Graduação
END:VEVENT
BEGIN:VEVENT
DTSTART;TZID=America/Sao_Paulo:20260730T120000
DTEND;TZID=America/Sao_Paulo:20260730T140000
DTSTAMP:20260425T213232
CREATED:20251008T185500Z
LAST-MODIFIED:20251008T185500Z
UID:79372-1785412800-1785420000@unasp.br
SUMMARY:Reunião de Colegiado | Medicina Veterinária
DESCRIPTION:
URL:https://unasp.br/calendario/evento/reuniao-de-colegiado-medicina-veterinaria/
LOCATION:Campus Eng. Coelho\, Estrada Mun. Pr. Walter Boger\, S/N\, Km 3\,5\, Engenheiro Coelho\, São Paulo\, 13165000\, Brasil
CATEGORIES:Pró-reitoria de Graduação
ORGANIZER;CN="Curso de Medicina Veterin%C3%A1ria":MAILTO:veterinaria.ec@unasp.edu.br
END:VEVENT
BEGIN:VEVENT
DTSTART;TZID=America/Sao_Paulo:20260730T170000
DTEND;TZID=America/Sao_Paulo:20260730T200000
DTSTAMP:20260425T213232
CREATED:20251008T185318Z
LAST-MODIFIED:20251008T185318Z
UID:79370-1785430800-1785441600@unasp.br
SUMMARY:Reunião de NDE | Medicina Veterinária
DESCRIPTION:
URL:https://unasp.br/calendario/evento/reuniao-de-nde-medicina-veterinaria-5/
LOCATION:Campus Eng. Coelho\, Estrada Mun. Pr. Walter Boger\, S/N\, Km 3\,5\, Engenheiro Coelho\, São Paulo\, 13165000\, Brasil
CATEGORIES:Pró-reitoria de Graduação
ORGANIZER;CN="Curso de Medicina Veterin%C3%A1ria":MAILTO:veterinaria.ec@unasp.edu.br
END:VEVENT
BEGIN:VEVENT
DTSTART;TZID=America/Sao_Paulo:20260731T120000
DTEND;TZID=America/Sao_Paulo:20260731T140000
DTSTAMP:20260425T213232
CREATED:20251008T181552Z
LAST-MODIFIED:20251008T181552Z
UID:79346-1785499200-1785506400@unasp.br
SUMMARY:NDE e Colegiado | Farmácia
DESCRIPTION:
URL:https://unasp.br/calendario/evento/nde-e-colegiado-farmacia/
LOCATION:Campus Eng. Coelho\, Estrada Mun. Pr. Walter Boger\, S/N\, Km 3\,5\, Engenheiro Coelho\, São Paulo\, 13165000\, Brasil
CATEGORIES:Pró-reitoria de Graduação
END:VEVENT
END:VCALENDAR